BEGIN:VCALENDAR
VERSION:2.0
PRODID:icalendar-ruby
CALSCALE:GREGORIAN
METHOD:PUBLISH
BEGIN:VEVENT
DTSTAMP:20260422T090125Z
UID:8-594235@friendshipcreekside.com
DTSTART:20261018T143000Z
DTEND:20261018T153000Z
CLASS:PUBLIC
CREATED:20260421T204213
DESCRIPTION:Whether you're new to the Bible or have been studying it for ye
 ars\, this group is a great place to grow in your faith. Come as you are 
 – all are welcome!
LAST-MODIFIED:20260421T204213
LOCATION:
SUMMARY:Adult Bible Study
URL;VALUE=URI:https://friendshipcreekside.com/events/adult-bible-study/2026
 -10-18
ATTACH;FILENAME=Screenshot-2025-11-15-210555.png;FMTTYPE=image/png:https://
 dq5pwpg1q8ru0.cloudfront.net/2025/11/16/03/07/12/ca0a6832-6210-4846-a26a-6
 1ea7d20a9ad/Screenshot-2025-11-15-210555.png
END:VEVENT
END:VCALENDAR
