BEGIN:VCALENDAR
VERSION:2.0
PRODID:icalendar-ruby
CALSCALE:GREGORIAN
METHOD:PUBLISH
BEGIN:VEVENT
DTSTAMP:20260420T061056Z
UID:56-440623@friendshipcreekside.com
DTSTART:20260503T150000Z
DTEND:20260503T180000Z
CLASS:PUBLIC
CREATED:20260310T104502
DESCRIPTION:We are updating our internal church directory and want to put a
  face to a name! Join us for a photoshoot designed to refresh profiles and
  provide your family with lasting memories. As a thank you for participati
 ng\, you will receive high-resolution digital copies of both your family g
 roup portraits and individual shots. These photo sessions are designed to
  be efficient—perfect for families with young children. \n\n\nDate: May
  3rd (session 1) and May 10th (session 2)\n\n\nTime: 10 AM - 11 AM (before
  church service) and 12 PM - 1:30 PM (immediately following church service
 )\n\n\nSign up sheet is coming soon!
LAST-MODIFIED:20260310T104502
LOCATION:
SUMMARY:Church Photos
URL;VALUE=URI:https://friendshipcreekside.com/events/church-photos/2026-05-
 03
ATTACH;FILENAME=Screenshot-2026-03-10-104342.png;FMTTYPE=image/png:https://
 dq5pwpg1q8ru0.cloudfront.net/2026/03/10/15/44/06/850e219e-6bea-416f-a9cf-6
 c972f88b8fa/Screenshot-2026-03-10-104342.png
END:VEVENT
END:VCALENDAR
