BEGIN:VCALENDAR
VERSION:2.0
PRODID:icalendar-ruby
CALSCALE:GREGORIAN
METHOD:PUBLISH
BEGIN:VEVENT
DTSTAMP:20260424T053221Z
UID:17-602278@friendshipcreekside.com
DTSTART:20261014T230000Z
DTEND:20261014T233000Z
CLASS:PUBLIC
CREATED:20260423T222417
DESCRIPTION:Come To The Table for a wonderful mid-week refresh every Wednes
 day night! We kick off our evening with a delicious homemade meal that's s
 ure to hit the spot. It's the perfect way to connect with your church fami
 ly before diving the evenings activities. We can't wait to share a meal an
 d fellowship with you!
LAST-MODIFIED:20260423T222417
LOCATION:
SUMMARY:Come To The Table
URL;VALUE=URI:https://friendshipcreekside.com/events/come-to-the-table/2026
 -10-14
ATTACH;FILENAME=Screenshot-2025-11-15-210810.png;FMTTYPE=image/png:https://
 dq5pwpg1q8ru0.cloudfront.net/2025/11/16/03/08/31/2153d7e6-e008-453e-95dd-0
 4dbcdb45fbe/Screenshot-2025-11-15-210810.png
END:VEVENT
END:VCALENDAR
