BEGIN:VCALENDAR
VERSION:2.0
PRODID:icalendar-ruby
CALSCALE:GREGORIAN
METHOD:PUBLISH
BEGIN:VEVENT
DTSTAMP:20260420T061614Z
UID:53-420583@friendshipcreekside.com
DTSTART:20260531T210000Z
DTEND:20260531T230000Z
CLASS:PUBLIC
CREATED:20260304T135911
DESCRIPTION:School is officially out &amp\; it’s time to celebrate! We ar
 e throwing an End of School Bash to welcome summer break. We'll have 3 wat
 er slides\, a snow cone machine\, and burgers and hot dogs! There is no be
 tter way than to transition in summer vacation mode! Come ready for fun!
LAST-MODIFIED:20260304T135911
LOCATION:
SUMMARY:End of School Bash
URL;VALUE=URI:https://friendshipcreekside.com/events/end-of-school-bash/202
 6-05-31
ATTACH;FILENAME=Screenshot-2026-03-04-134719.png;FMTTYPE=image/png:https://
 dq5pwpg1q8ru0.cloudfront.net/2026/03/04/19/47/40/be6e2c2a-6174-434f-a470-c
 bc2235b819d/Screenshot-2026-03-04-134719.png
END:VEVENT
END:VCALENDAR
