BEGIN:VCALENDAR
VERSION:2.0
PRODID:icalendar-ruby
CALSCALE:GREGORIAN
METHOD:PUBLISH
BEGIN:VEVENT
DTSTAMP:20260420T055626Z
UID:30-420577@friendshipcreekside.com
DTSTART:20260609T140000Z
DTEND:20260612T190000Z
CLASS:PUBLIC
CREATED:20260304T135525
DESCRIPTION:Make this summer unforgettable! Open to kids 3 years old (must 
 be potty trained) through 6th grade\, our camp offers a high-energy and en
 gaging environment where kids can build friendships and enjoy the best par
 ts of being a kid. Each day is packed with exciting activities for your ch
 ild to experience a summer full of adventure and discovery.\nWe are excite
 d to offer five unique weeks of camp this year\, giving families the flexi
 bility to join us for one week or the entire summer. Registration is now o
 pen\, so be sure to secure your child’s spot for the weeks that work bes
 t for your schedule. \n3 yrs - 2nd grade registration\n3rd - 6th grade re
 gistration
LAST-MODIFIED:20260304T135525
LOCATION:
SUMMARY:EPIC Sports & Kids Camp
URL;VALUE=URI:https://friendshipcreekside.com/events/epic-sports-kids-camp-
 -30/2026-06-09
ATTACH;FILENAME=5C12914D-7729-4455-A945-2FAEE866DA7E.jpg;FMTTYPE=image/jpeg
 :https://dq5pwpg1q8ru0.cloudfront.net/2026/03/04/19/55/25/b11902a7-2c26-46
 34-97f0-79bd79d216eb/5C12914D-7729-4455-A945-2FAEE866DA7E.jpg
END:VEVENT
END:VCALENDAR
