BEGIN:VCALENDAR
VERSION:2.0
PRODID:icalendar-ruby
CALSCALE:GREGORIAN
METHOD:PUBLISH
BEGIN:VEVENT
DTSTAMP:20260420T055252Z
UID:38-420582@friendshipcreekside.com
DTSTART:20260721T140000Z
DTEND:20260724T190000Z
CLASS:PUBLIC
CREATED:20260304T135828
DESCRIPTION:Make this summer unforgettable! Open to kids 3 years old (must 
 be potty trained) through 6th grade\, our camp offers a high-energy and en
 gaging environment where kids can build friendships and enjoy the best par
 ts of being a kid. Each day is packed with exciting activities for your ch
 ild to experience a summer full of adventure and discovery.\nWe are excite
 d to offer five unique weeks of camp this year\, giving families the flexi
 bility to join us for one week or the entire summer. Registration is now o
 pen\, so be sure to secure your child’s spot for the weeks that work bes
 t for your schedule. \n3 yrs - 2nd grade registration\n3rd - 6th grade re
 gistration
LAST-MODIFIED:20260304T135828
LOCATION:
SUMMARY:EPIC Sports & Kids Camp
URL;VALUE=URI:https://friendshipcreekside.com/events/epic-sports-kids-camp/
 2026-07-21
ATTACH;FILENAME=5C12914D-7729-4455-A945-2FAEE866DA7E.jpg;FMTTYPE=image/jpeg
 :https://dq5pwpg1q8ru0.cloudfront.net/2026/03/04/19/58/28/bdd1f993-600e-4d
 ef-b262-232625af7597/5C12914D-7729-4455-A945-2FAEE866DA7E.jpg
END:VEVENT
END:VCALENDAR
