BEGIN:VCALENDAR
VERSION:2.0
PRODID:icalendar-ruby
CALSCALE:GREGORIAN
METHOD:PUBLISH
BEGIN:VEVENT
DTSTAMP:20260420T055717Z
UID:55-550110@friendshipcreekside.com
DTSTART:20260606T100000Z
DTEND:20260606T170000Z
CLASS:PUBLIC
CREATED:20260410T095722
DESCRIPTION:We’re heading to the Inks Lake for a morning of fishin'. No f
 ishing experience necessary! We'll provide all the fishing gear you need\,
  just wear comfortable clothes that can get a little messy\, closed-toe sh
 oes\, a hat\, and plenty of sunscreen. \n\n\nWho: Boys &amp\; girls of al
 l ages are welcome!\n\n\nWhen: Saturday\, June 6th\n\n\nMeeting Point: Mee
 t at the Church at 5:00 AM\, we'll pull out of the parking lot at 5:30 AM 
 sharp. \n\n\nThis isn’t just a fishing trip\; it’s a "guaranteed catc
 h" adventure and an opportunity to enjoy the great outdoors while learning
  a new skill! Text Brad to learn more and sign up (512) 680-7725\n\n\n\n\n
LAST-MODIFIED:20260410T095722
LOCATION:Inks Lake - 3480 Park Road 4 West Burnet\, TX 78611
SUMMARY:Fishing Trip to Inks Lake
URL;VALUE=URI:https://friendshipcreekside.com/events/fishing-trip-to-inks-l
 ake/2026-06-06
ATTACH;FILENAME=inks-lake.jpg;FMTTYPE=image/jpeg:https://dq5pwpg1q8ru0.clou
 dfront.net/2026/04/10/14/57/22/87fee1f0-f27d-439f-80d2-cb43ed41b73f/inks-l
 ake.jpg
END:VEVENT
END:VCALENDAR
