BEGIN:VCALENDAR
VERSION:2.0
PRODID:icalendar-ruby
CALSCALE:GREGORIAN
METHOD:PUBLISH
BEGIN:VEVENT
DTSTAMP:20260424T083347Z
UID:10-601990@friendshipcreekside.com
DTSTART:20261026T130000Z
DTEND:20261026T143000Z
CLASS:PUBLIC
CREATED:20260423T222416
DESCRIPTION:First come\, first serve
LAST-MODIFIED:20260423T222416
LOCATION:
SUMMARY:Food Pantry & Diaper Bank
URL;VALUE=URI:https://friendshipcreekside.com/events/food-pantry-diaper-ban
 k/2026-10-26
ATTACH;FILENAME=food-pantry.jpg;FMTTYPE=image/jpeg:https://dq5pwpg1q8ru0.cl
 oudfront.net/2025/11/16/02/52/23/b6bc9ae8-1460-4a7e-9b50-766e18654b53/food
 -pantry.jpg
END:VEVENT
END:VCALENDAR
