BEGIN:VCALENDAR
VERSION:2.0
PRODID:icalendar-ruby
CALSCALE:GREGORIAN
METHOD:PUBLISH
BEGIN:VEVENT
DTSTAMP:20260424T064807Z
UID:14-602135@friendshipcreekside.com
DTSTART:20261019T160000Z
DTEND:20261019T180000Z
CLASS:PUBLIC
CREATED:20260423T222417
DESCRIPTION:Join Pierre Pope and the "lunch bunch gals" for a lunchtime Bib
 le study. They'll be meeting in the CUB from 11 AM to 1 PM. Feel free to b
 ring your lunch! (child care is not provided)
LAST-MODIFIED:20260423T222417
LOCATION:
SUMMARY:Ladies Lunch Bunch
URL;VALUE=URI:https://friendshipcreekside.com/events/ladies-lunch-bunch/202
 6-10-19
ATTACH;FILENAME=ShX0.jpg;FMTTYPE=image/jpeg:https://dq5pwpg1q8ru0.cloudfron
 t.net/2025/11/16/03/00/30/e7951d0e-6abc-40ad-9d6f-1fca5e10763f/ShX0.jpg
END:VEVENT
END:VCALENDAR
