BEGIN:VCALENDAR
VERSION:2.0
PRODID:icalendar-ruby
CALSCALE:GREGORIAN
METHOD:PUBLISH
BEGIN:VEVENT
DTSTAMP:20260423T102233Z
UID:16-598368@friendshipcreekside.com
DTSTART:20261006T113500Z
DTEND:20261006T123000Z
CLASS:PUBLIC
CREATED:20260422T222228
DESCRIPTION:Join the Tuesday monrning Men's Bible Study and dive deep into 
 Scripture\, focusing on how its timeless truths apply to the challenges an
 d responsibilities of modern manhood. Coffee is available!
LAST-MODIFIED:20260422T222228
LOCATION:
SUMMARY:Men's Bible Study
URL;VALUE=URI:https://friendshipcreekside.com/events/mens-bible-study/2026-
 10-06
ATTACH;FILENAME=Screenshot-2025-11-15-210611.png;FMTTYPE=image/png:https://
 dq5pwpg1q8ru0.cloudfront.net/2025/11/16/03/06/37/99a5ea89-335c-4996-a8dd-9
 ab2219d7afe/Screenshot-2025-11-15-210611.png
END:VEVENT
END:VCALENDAR
