BEGIN:VCALENDAR
VERSION:2.0
PRODID:icalendar-ruby
CALSCALE:GREGORIAN
METHOD:PUBLISH
BEGIN:VEVENT
DTSTAMP:20260420T061209Z
UID:52-420576@friendshipcreekside.com
DTSTART:20260517T154500Z
DTEND:20260517T170000Z
CLASS:PUBLIC
CREATED:20260304T135438
DESCRIPTION:Honoring our high school graduates is a milestone for our churc
 h family\, and we aside a special Senior Sunday to celebrate their achieve
 ments. As these young men and women prepare to begin a new chapter of life
 \, we want to surround them with prayer\, encouragement\, and the reminder
  that their church home is always behind them. We look forward to gatherin
 g as a community to applaud their hard work and seek God's guidance for th
 e bright futures ahead of them.
LAST-MODIFIED:20260304T135438
LOCATION:
SUMMARY:Senior Sunday
URL;VALUE=URI:https://friendshipcreekside.com/events/senior-sunday/2026-05-
 17
ATTACH;FILENAME=Screenshot-2026-03-04-135421.png;FMTTYPE=image/png:https://
 dq5pwpg1q8ru0.cloudfront.net/2026/03/04/19/54/37/6acf5bd7-16b7-4cf5-bd6f-8
 4feea7372d9/Screenshot-2026-03-04-135421.png
END:VEVENT
END:VCALENDAR
