BEGIN:VCALENDAR
VERSION:2.0
PRODID:icalendar-ruby
CALSCALE:GREGORIAN
METHOD:PUBLISH
BEGIN:VEVENT
DTSTAMP:20260422T015520Z
UID:15-594480@friendshipcreekside.com
DTSTART:20261019T233000Z
DTEND:20261020T010000Z
CLASS:PUBLIC
CREATED:20260421T204214
DESCRIPTION:\n\n\n\nTrail Life USA is a Christian-based\, "Scout-like" orga
 nization that helps boys from kindergarten through 12th grade develop char
 acter and leadership skills. Through outdoor adventures and service\, the 
 program teaches values such as purity\, integrity\, and stewardship\, with
  the goal of guiding young men to honor God and lead with integrity.\n\n\n
 \n\n
LAST-MODIFIED:20260421T204214
LOCATION:
SUMMARY:Trail Life 
URL;VALUE=URI:https://friendshipcreekside.com/events/trail-life/2026-10-19
ATTACH;FILENAME=traillife-1536x672.png;FMTTYPE=image/png:https://dq5pwpg1q8
 ru0.cloudfront.net/2025/11/16/03/02/10/ec10525a-851e-4709-86b4-6062d3bba69
 0/traillife-1536x672.png
END:VEVENT
END:VCALENDAR
