BEGIN:VCALENDAR
VERSION:2.0
PRODID:icalendar-ruby
CALSCALE:GREGORIAN
METHOD:PUBLISH
BEGIN:VEVENT
DTSTAMP:20260424T054521Z
UID:18-602324@friendshipcreekside.com
DTSTART:20261007T230000Z
DTEND:20261008T010000Z
CLASS:PUBLIC
CREATED:20260423T222418
DESCRIPTION:You're invited to an evening of fun\, worship\, and fellowship!
  Join us for a homemade meal at 6 PM\, followed by worship\, games\, and s
 mall group discussions centered on God's word. Students are welcome to arr
 ive on campus as early as 5:15 PM.\n 
LAST-MODIFIED:20260423T222418
LOCATION:
SUMMARY:Youth Night
URL;VALUE=URI:https://friendshipcreekside.com/events/youth-night/2026-10-07
ATTACH;FILENAME=One-Epic-Youth-Art-2.png;FMTTYPE=image/png:https://dq5pwpg1
 q8ru0.cloudfront.net/2025/11/16/03/09/27/34f7c868-1cc9-4b03-bf62-046092df2
 a0e/One-Epic-Youth-Art-2.png
END:VEVENT
END:VCALENDAR
